BEGIN:VCALENDAR
VERSION:2.0
PRODID:-//spirit-heart.com - ECPv6.15.18//NONSGML v1.0//EN
CALSCALE:GREGORIAN
METHOD:PUBLISH
X-ORIGINAL-URL:https://spirit-heart.com
X-WR-CALDESC:Events for spirit-heart.com
REFRESH-INTERVAL;VALUE=DURATION:PT1H
X-Robots-Tag:noindex
X-PUBLISHED-TTL:PT1H
BEGIN:VTIMEZONE
TZID:Europe/London
BEGIN:DAYLIGHT
TZOFFSETFROM:+0000
TZOFFSETTO:+0100
TZNAME:BST
DTSTART:20250330T010000
END:DAYLIGHT
BEGIN:STANDARD
TZOFFSETFROM:+0100
TZOFFSETTO:+0000
TZNAME:GMT
DTSTART:20251026T010000
END:STANDARD
BEGIN:DAYLIGHT
TZOFFSETFROM:+0000
TZOFFSETTO:+0100
TZNAME:BST
DTSTART:20260329T010000
END:DAYLIGHT
BEGIN:STANDARD
TZOFFSETFROM:+0100
TZOFFSETTO:+0000
TZNAME:GMT
DTSTART:20261025T010000
END:STANDARD
BEGIN:DAYLIGHT
TZOFFSETFROM:+0000
TZOFFSETTO:+0100
TZNAME:BST
DTSTART:20270328T010000
END:DAYLIGHT
BEGIN:STANDARD
TZOFFSETFROM:+0100
TZOFFSETTO:+0000
TZNAME:GMT
DTSTART:20271031T010000
END:STANDARD
END:VTIMEZONE
BEGIN:VEVENT
DTSTART;VALUE=DATE:20260516
DTEND;VALUE=DATE:20260518
DTSTAMP:20260422T025145
CREATED:20250912T114045Z
LAST-MODIFIED:20251003T103601Z
UID:1477-1778889600-1779062399@spirit-heart.com
SUMMARY:Level 2 (Advanced) Animal Healing and Communication Course
DESCRIPTION:If you’ve completed Level 1 and want to take your connection with your own animals even deeper\, my Level 2 Advanced Animal Healing & Communication Course is designed for you. This course will help you develop more advanced communication techniques and healing skills\, so you can better understand and support the animals in your life. \nOver two days\, you’ll learn how to tune in more clearly to your animal’s needs\, respond intuitively\, and offer healing and guidance in a way that is safe\, gentle\, and effective. You’ll practise with real-life examples and exercises\, helping you grow your confidence in reading your animals’ energy\, emotions\, and behaviour. \nBy the end of the course\, you’ll feel more attuned to your animals than ever before\, with practical tools to strengthen your bond\, support their well-being\, and bring more calm\, comfort\, and balance into their lives. This course is perfect for anyone who wants to use animal healing and communication in a loving\, hands-on way with their own animals.
URL:https://spirit-heart.com/event/level-2-advanced-animal-healing-and-communication-course-2/
CATEGORIES:Courses
ATTACH;FMTTYPE=image/png:https://spirit-heart.com/wp-content/uploads/2024/10/Canine-Reiki.png
END:VEVENT
BEGIN:VEVENT
DTSTART;VALUE=DATE:20260613
DTEND;VALUE=DATE:20260615
DTSTAMP:20260422T025145
CREATED:20250917T150635Z
LAST-MODIFIED:20251005T091008Z
UID:1548-1781308800-1781481599@spirit-heart.com
SUMMARY:Shamanic Healing (For You And Your Animal) Course
DESCRIPTION:If you’ve ever wanted to connect more deeply with your animals and explore healing in a truly hands-on\, intuitive way\, this two-day shamanic healing course is for you. Designed for animal owners\, we’ll dive into practical shamanic techniques you can use both for yourself and your animals. \nOver the course\, you’ll journey to meet your power animal\, learn to drum and work with energy\, and discover powerful healing tools like soul retrieval\, extractions\, and much more. Through guided exercises and practice\, you’ll develop skills to support the emotional\, physical\, and spiritual well-being of your animals – and yourself. \nBy the end\, you’ll feel confident using shamanic healing safely and effectively\, bringing calm\, balance\, and deeper connection into your animals’ lives. This course is perfect for anyone who wants practical\, hands-on shamanic tools to help their animals thrive.
URL:https://spirit-heart.com/event/shamanic-healing-for-you-and-your-animal-course/
CATEGORIES:Courses
ATTACH;FMTTYPE=image/png:https://spirit-heart.com/wp-content/uploads/2024/09/Couse-Shamanic-Healing-Drum.png
END:VEVENT
BEGIN:VEVENT
DTSTART;TZID=Europe/London:20260627T090000
DTEND;TZID=Europe/London:20260627T090000
DTSTAMP:20260422T025145
CREATED:20260213T104619Z
LAST-MODIFIED:20260213T124751Z
UID:1793-1782550800-1782550800@spirit-heart.com
SUMMARY:Animal Healing & Communication Practice Session
DESCRIPTION:Animal Healing & Communication Practice Sessions are designed to support students in developing confidence\, clarity\, and trust in their animal healing and animal communication skills. \nThese sessions offer dedicated space to practise both healing and communication in a safe\, supportive\, and nurturing environment\, allowing you to move beyond theory and into real\, practical experience. \nOpen to students at all levels of training\, the sessions meet you exactly where you are. Whether you are building confidence\, refining your skills\, or deepening your understanding of how you personally work with animals\, you will be gently supported throughout. \nEach session provides time for individual guidance and reflection\, helping you strengthen your intuition\, trust what you receive\, and gain insight into working with animals in real situations. These practice sessions are ideal for anyone wanting to deepen their connection with animals while feeling held\, supported\, and encouraged as they continue to grow and develop their skills.
URL:https://spirit-heart.com/event/animal-healing-communication-practice-session/
CATEGORIES:Workshops
ATTACH;FMTTYPE=image/png:https://spirit-heart.com/wp-content/uploads/2026/02/Blog-March-Post-002.png
END:VEVENT
BEGIN:VEVENT
DTSTART;VALUE=DATE:20260711
DTEND;VALUE=DATE:20260713
DTSTAMP:20260422T025145
CREATED:20250212T134853Z
LAST-MODIFIED:20251003T102105Z
UID:1380-1783728000-1783900799@spirit-heart.com
SUMMARY:Level 1 (Beginners) Animal Healing and Communication Course
DESCRIPTION:This Level 1 course is the perfect starting point if you want to build a real\, practical foundation in animal healing and communication. It’s designed for beginners and for anyone who feels drawn to understand and connect with animals on a deeper level. \nOver two days\, you’ll explore the key principles of intuitive animal communication\, learn how to sense and work with animal energy\, and practise simple but effective healing techniques you can use straight away. We’ll cover grounding and centring skills\, explore how to safely connect with an animal’s energy\, and look at the ethical considerations that are essential to this work. \nBy the end of the course\, you’ll feel more confident in tuning in to the animals around you and ready to start using what you’ve learned with your own animals. This is where your journey into animal healing and communication truly begins.
URL:https://spirit-heart.com/event/level-1-beginners-animal-healing-and-communication-course-3/
CATEGORIES:Courses
ATTACH;FMTTYPE=image/png:https://spirit-heart.com/wp-content/uploads/2024/09/Photograph-Reading.png
END:VEVENT
BEGIN:VEVENT
DTSTART;VALUE=DATE:20260808
DTEND;VALUE=DATE:20260810
DTSTAMP:20260422T025145
CREATED:20250917T122205Z
LAST-MODIFIED:20251005T092506Z
UID:1497-1786147200-1786319999@spirit-heart.com
SUMMARY:Level 3 (Professional) Animal Healing and Communication Course
DESCRIPTION:If you’ve ever felt the pull to work with animals in a deeper way and to share your gifts with others\, this course will support you in stepping into that role. The Professional Animal Healing & Communication Course is designed for those who are ready to move from learning the skills to actually living them – working with animals and their people as a professional. \nWe’ll go beyond the techniques and explore what it really takes to become a professional animal healer and communicator. You’ll learn how to build confidence in your abilities\, hold space for more complex cases\, and create strong foundations for offering consultations that feel safe\, grounded and ethical. Alongside the healing and communication work\, I’ll guide you through the practical side of setting up your own animal healing and communication practice – from finding your way of working with clients\, to shaping services that feel authentic\, and understanding how to share your work with the world in a way that suits you. \nBy the end of the course\, you’ll feel prepared to start offering your services as a professional animal communicator and healer. You’ll leave with the tools\, knowledge and confidence to step into your practice\, knowing you can make a real difference in the lives of animals and their people. \n 
URL:https://spirit-heart.com/event/level-3-professional-animal-healing-and-communication-course/
CATEGORIES:Courses
ATTACH;FMTTYPE=image/png:https://spirit-heart.com/wp-content/uploads/2024/09/Couse-Energy-Healing-for-you-and-your-horse.png
END:VEVENT
BEGIN:VEVENT
DTSTART;TZID=Europe/London:20261003T090000
DTEND;TZID=Europe/London:20261003T120000
DTSTAMP:20260422T025145
CREATED:20260213T124933Z
LAST-MODIFIED:20260213T124933Z
UID:1798-1791018000-1791028800@spirit-heart.com
SUMMARY:Animal Healing & Communication Practice Session
DESCRIPTION:Animal Healing & Communication Practice Sessions are designed to support students in developing confidence\, clarity\, and trust in their animal healing and animal communication skills. \nThese sessions offer dedicated space to practise both healing and communication in a safe\, supportive\, and nurturing environment\, allowing you to move beyond theory and into real\, practical experience. \nOpen to students at all levels of training\, the sessions meet you exactly where you are. Whether you are building confidence\, refining your skills\, or deepening your understanding of how you personally work with animals\, you will be gently supported throughout. \nEach session provides time for individual guidance and reflection\, helping you strengthen your intuition\, trust what you receive\, and gain insight into working with animals in real situations. These practice sessions are ideal for anyone wanting to deepen their connection with animals while feeling held\, supported\, and encouraged as they continue to grow and develop their skills.
URL:https://spirit-heart.com/event/animal-healing-communication-practice-session-2/
CATEGORIES:Workshops
ATTACH;FMTTYPE=image/png:https://spirit-heart.com/wp-content/uploads/2026/02/Blog-March-Post-002.png
END:VEVENT
BEGIN:VEVENT
DTSTART;TZID=Europe/London:20261017T093000
DTEND;TZID=Europe/London:20261017T123000
DTSTAMP:20260422T025145
CREATED:20250912T120556Z
LAST-MODIFIED:20251230T162828Z
UID:1494-1792229400-1792240200@spirit-heart.com
SUMMARY:Animal Communication Workshop (Half day 9:30-12:30)
DESCRIPTION:Have you ever wondered what your animal is trying to say to you? Are you curious about what it is that they are thinking? Would you like to develop a deeper connection with your animal? Then this workshop is perfect for you. \nDuring this half day interactive workshop you will learn a variety of techniques to help you communicate more effectively with your own animals. You will learn about the different ways your animals may communicate with you and how to become more present so that you can hear what your animals have to say. \nSign up to both this workshop and Animal Crystal & Colour Therapy Workshop on the same day (morning and afternoon) and receive a £75 discount off the total cost by using coupon code SPIRITBUY2 at checkout.\nThis coupon code applies to any 2 workshops purchased but will only be honoured on 2 workshops scheduled on the same day (morning and afternoon).
URL:https://spirit-heart.com/event/animal-communication-workshop-3/
CATEGORIES:Workshops
ATTACH;FMTTYPE=image/png:https://spirit-heart.com/wp-content/uploads/2024/09/Courses-Animal-Communication.png
END:VEVENT
BEGIN:VEVENT
DTSTART;TZID=Europe/London:20261017T130000
DTEND;TZID=Europe/London:20261017T160000
DTSTAMP:20260422T025145
CREATED:20250912T120121Z
LAST-MODIFIED:20251230T162902Z
UID:1489-1792242000-1792252800@spirit-heart.com
SUMMARY:Animal Crystal & Colour Therapy Workshop  (Half Day 13:00-16:00)
DESCRIPTION:Join me for a hands-on animal healing workshop where you’ll learn how to use crystal and colour healing with your animals.We’ll cover everything from choosing the right crystals for pets and animals\, to understanding how colour therapy can support their physical and emotional well-being. Together\, we’ll explore the animal chakra system and practise simple ways to balance it using a crystal pendulum. You’ll also discover how to cleanse\, charge\, and programme crystals so they can be used specifically for your animal’s needs. \nAnd as a special gift\, you’ll receive your own crystal pendulum to take home – chosen by you\, for you and your animal. \nSign up to both this workshop and Animal Communication Workshop on the same day (morning and afternoon) and receive a £75 discount off the total cost by using coupon code SPIRITBUY2 at checkout.\nThis coupon code applies to any 2 workshops purchased but will only be honoured on 2 workshops scheduled on the same day (morning and afternoon).
URL:https://spirit-heart.com/event/animal-crystal-colour-therapy-workshop-half-day-1300-1600-2/
CATEGORIES:Workshops
ATTACH;FMTTYPE=image/png:https://spirit-heart.com/wp-content/uploads/2024/09/Courses-Crystal-Healing-1.png
END:VEVENT
BEGIN:VEVENT
DTSTART;VALUE=DATE:20261114
DTEND;VALUE=DATE:20261116
DTSTAMP:20260422T025145
CREATED:20250212T135722Z
LAST-MODIFIED:20251003T102228Z
UID:1388-1794614400-1794787199@spirit-heart.com
SUMMARY:Level 2 (Advanced) Animal Healing and Communication Course
DESCRIPTION:If you’ve completed Level 1 and want to take your connection with your own animals even deeper\, my Level 2 Advanced Animal Healing & Communication Course is designed for you. This course will help you develop more advanced communication techniques and healing skills\, so you can better understand and support the animals in your life. \nOver two days\, you’ll learn how to tune in more clearly to your animal’s needs\, respond intuitively\, and offer healing and guidance in a way that is safe\, gentle\, and effective. You’ll practise with real-life examples and exercises\, helping you grow your confidence in reading your animals’ energy\, emotions\, and behaviour. \nBy the end of the course\, you’ll feel more attuned to your animals than ever before\, with practical tools to strengthen your bond\, support their well-being\, and bring more calm\, comfort\, and balance into their lives. This course is perfect for anyone who wants to use animal healing and communication in a loving\, hands-on way with their own animals.
URL:https://spirit-heart.com/event/level-2-advanced-animal-healing-and-communication-course/
CATEGORIES:Courses
ATTACH;FMTTYPE=image/png:https://spirit-heart.com/wp-content/uploads/2024/10/Canine-Reiki.png
END:VEVENT
END:VCALENDAR