BEGIN:VCALENDAR
VERSION:2.0
PRODID:-//spirit-heart.com - ECPv6.15.18//NONSGML v1.0//EN
CALSCALE:GREGORIAN
METHOD:PUBLISH
X-WR-CALNAME:spirit-heart.com
X-ORIGINAL-URL:https://spirit-heart.com
X-WR-CALDESC:Events for spirit-heart.com
REFRESH-INTERVAL;VALUE=DURATION:PT1H
X-Robots-Tag:noindex
X-PUBLISHED-TTL:PT1H
BEGIN:VTIMEZONE
TZID:Europe/London
BEGIN:DAYLIGHT
TZOFFSETFROM:+0000
TZOFFSETTO:+0100
TZNAME:BST
DTSTART:20250330T010000
END:DAYLIGHT
BEGIN:STANDARD
TZOFFSETFROM:+0100
TZOFFSETTO:+0000
TZNAME:GMT
DTSTART:20251026T010000
END:STANDARD
BEGIN:DAYLIGHT
TZOFFSETFROM:+0000
TZOFFSETTO:+0100
TZNAME:BST
DTSTART:20260329T010000
END:DAYLIGHT
BEGIN:STANDARD
TZOFFSETFROM:+0100
TZOFFSETTO:+0000
TZNAME:GMT
DTSTART:20261025T010000
END:STANDARD
BEGIN:DAYLIGHT
TZOFFSETFROM:+0000
TZOFFSETTO:+0100
TZNAME:BST
DTSTART:20270328T010000
END:DAYLIGHT
BEGIN:STANDARD
TZOFFSETFROM:+0100
TZOFFSETTO:+0000
TZNAME:GMT
DTSTART:20271031T010000
END:STANDARD
END:VTIMEZONE
BEGIN:VEVENT
DTSTART;TZID=Europe/London:20261017T093000
DTEND;TZID=Europe/London:20261017T123000
DTSTAMP:20260422T000941
CREATED:20250912T120556Z
LAST-MODIFIED:20251230T162828Z
UID:1494-1792229400-1792240200@spirit-heart.com
SUMMARY:Animal Communication Workshop (Half day 9:30-12:30)
DESCRIPTION:Have you ever wondered what your animal is trying to say to you? Are you curious about what it is that they are thinking? Would you like to develop a deeper connection with your animal? Then this workshop is perfect for you. \nDuring this half day interactive workshop you will learn a variety of techniques to help you communicate more effectively with your own animals. You will learn about the different ways your animals may communicate with you and how to become more present so that you can hear what your animals have to say. \nSign up to both this workshop and Animal Crystal & Colour Therapy Workshop on the same day (morning and afternoon) and receive a £75 discount off the total cost by using coupon code SPIRITBUY2 at checkout.\nThis coupon code applies to any 2 workshops purchased but will only be honoured on 2 workshops scheduled on the same day (morning and afternoon).
URL:https://spirit-heart.com/event/animal-communication-workshop-3/
CATEGORIES:Workshops
ATTACH;FMTTYPE=image/png:https://spirit-heart.com/wp-content/uploads/2024/09/Courses-Animal-Communication.png
END:VEVENT
BEGIN:VEVENT
DTSTART;TZID=Europe/London:20261017T130000
DTEND;TZID=Europe/London:20261017T160000
DTSTAMP:20260422T000941
CREATED:20250912T120121Z
LAST-MODIFIED:20251230T162902Z
UID:1489-1792242000-1792252800@spirit-heart.com
SUMMARY:Animal Crystal & Colour Therapy Workshop  (Half Day 13:00-16:00)
DESCRIPTION:Join me for a hands-on animal healing workshop where you’ll learn how to use crystal and colour healing with your animals.We’ll cover everything from choosing the right crystals for pets and animals\, to understanding how colour therapy can support their physical and emotional well-being. Together\, we’ll explore the animal chakra system and practise simple ways to balance it using a crystal pendulum. You’ll also discover how to cleanse\, charge\, and programme crystals so they can be used specifically for your animal’s needs. \nAnd as a special gift\, you’ll receive your own crystal pendulum to take home – chosen by you\, for you and your animal. \nSign up to both this workshop and Animal Communication Workshop on the same day (morning and afternoon) and receive a £75 discount off the total cost by using coupon code SPIRITBUY2 at checkout.\nThis coupon code applies to any 2 workshops purchased but will only be honoured on 2 workshops scheduled on the same day (morning and afternoon).
URL:https://spirit-heart.com/event/animal-crystal-colour-therapy-workshop-half-day-1300-1600-2/
CATEGORIES:Workshops
ATTACH;FMTTYPE=image/png:https://spirit-heart.com/wp-content/uploads/2024/09/Courses-Crystal-Healing-1.png
END:VEVENT
END:VCALENDAR