BEGIN:VCALENDAR
VERSION:2.0
PRODID:-//spirit-heart.com - ECPv6.15.18//NONSGML v1.0//EN
CALSCALE:GREGORIAN
METHOD:PUBLISH
X-ORIGINAL-URL:https://spirit-heart.com
X-WR-CALDESC:Events for spirit-heart.com
REFRESH-INTERVAL;VALUE=DURATION:PT1H
X-Robots-Tag:noindex
X-PUBLISHED-TTL:PT1H
BEGIN:VTIMEZONE
TZID:Europe/London
BEGIN:DAYLIGHT
TZOFFSETFROM:+0000
TZOFFSETTO:+0100
TZNAME:BST
DTSTART:20250330T010000
END:DAYLIGHT
BEGIN:STANDARD
TZOFFSETFROM:+0100
TZOFFSETTO:+0000
TZNAME:GMT
DTSTART:20251026T010000
END:STANDARD
BEGIN:DAYLIGHT
TZOFFSETFROM:+0000
TZOFFSETTO:+0100
TZNAME:BST
DTSTART:20260329T010000
END:DAYLIGHT
BEGIN:STANDARD
TZOFFSETFROM:+0100
TZOFFSETTO:+0000
TZNAME:GMT
DTSTART:20261025T010000
END:STANDARD
BEGIN:DAYLIGHT
TZOFFSETFROM:+0000
TZOFFSETTO:+0100
TZNAME:BST
DTSTART:20270328T010000
END:DAYLIGHT
BEGIN:STANDARD
TZOFFSETFROM:+0100
TZOFFSETTO:+0000
TZNAME:GMT
DTSTART:20271031T010000
END:STANDARD
END:VTIMEZONE
BEGIN:VEVENT
DTSTART;TZID=Europe/London:20260627T090000
DTEND;TZID=Europe/London:20260627T090000
DTSTAMP:20260421T194116
CREATED:20260213T104619Z
LAST-MODIFIED:20260213T124751Z
UID:1793-1782550800-1782550800@spirit-heart.com
SUMMARY:Animal Healing & Communication Practice Session
DESCRIPTION:Animal Healing & Communication Practice Sessions are designed to support students in developing confidence\, clarity\, and trust in their animal healing and animal communication skills. \nThese sessions offer dedicated space to practise both healing and communication in a safe\, supportive\, and nurturing environment\, allowing you to move beyond theory and into real\, practical experience. \nOpen to students at all levels of training\, the sessions meet you exactly where you are. Whether you are building confidence\, refining your skills\, or deepening your understanding of how you personally work with animals\, you will be gently supported throughout. \nEach session provides time for individual guidance and reflection\, helping you strengthen your intuition\, trust what you receive\, and gain insight into working with animals in real situations. These practice sessions are ideal for anyone wanting to deepen their connection with animals while feeling held\, supported\, and encouraged as they continue to grow and develop their skills.
URL:https://spirit-heart.com/event/animal-healing-communication-practice-session/
CATEGORIES:Workshops
ATTACH;FMTTYPE=image/png:https://spirit-heart.com/wp-content/uploads/2026/02/Blog-March-Post-002.png
END:VEVENT
END:VCALENDAR