BEGIN:VCALENDAR
VERSION:2.0
PRODID:-//spirit-heart.com - ECPv6.15.18//NONSGML v1.0//EN
CALSCALE:GREGORIAN
METHOD:PUBLISH
X-WR-CALNAME:spirit-heart.com
X-ORIGINAL-URL:https://spirit-heart.com
X-WR-CALDESC:Events for spirit-heart.com
REFRESH-INTERVAL;VALUE=DURATION:PT1H
X-Robots-Tag:noindex
X-PUBLISHED-TTL:PT1H
BEGIN:VTIMEZONE
TZID:Europe/London
BEGIN:DAYLIGHT
TZOFFSETFROM:+0000
TZOFFSETTO:+0100
TZNAME:BST
DTSTART:20250330T010000
END:DAYLIGHT
BEGIN:STANDARD
TZOFFSETFROM:+0100
TZOFFSETTO:+0000
TZNAME:GMT
DTSTART:20251026T010000
END:STANDARD
BEGIN:DAYLIGHT
TZOFFSETFROM:+0000
TZOFFSETTO:+0100
TZNAME:BST
DTSTART:20260329T010000
END:DAYLIGHT
BEGIN:STANDARD
TZOFFSETFROM:+0100
TZOFFSETTO:+0000
TZNAME:GMT
DTSTART:20261025T010000
END:STANDARD
BEGIN:DAYLIGHT
TZOFFSETFROM:+0000
TZOFFSETTO:+0100
TZNAME:BST
DTSTART:20270328T010000
END:DAYLIGHT
BEGIN:STANDARD
TZOFFSETFROM:+0100
TZOFFSETTO:+0000
TZNAME:GMT
DTSTART:20271031T010000
END:STANDARD
END:VTIMEZONE
BEGIN:VEVENT
DTSTART;VALUE=DATE:20260711
DTEND;VALUE=DATE:20260713
DTSTAMP:20260422T011636
CREATED:20250212T134853Z
LAST-MODIFIED:20251003T102105Z
UID:1380-1783728000-1783900799@spirit-heart.com
SUMMARY:Level 1 (Beginners) Animal Healing and Communication Course
DESCRIPTION:This Level 1 course is the perfect starting point if you want to build a real\, practical foundation in animal healing and communication. It’s designed for beginners and for anyone who feels drawn to understand and connect with animals on a deeper level. \nOver two days\, you’ll explore the key principles of intuitive animal communication\, learn how to sense and work with animal energy\, and practise simple but effective healing techniques you can use straight away. We’ll cover grounding and centring skills\, explore how to safely connect with an animal’s energy\, and look at the ethical considerations that are essential to this work. \nBy the end of the course\, you’ll feel more confident in tuning in to the animals around you and ready to start using what you’ve learned with your own animals. This is where your journey into animal healing and communication truly begins.
URL:https://spirit-heart.com/event/level-1-beginners-animal-healing-and-communication-course-3/
CATEGORIES:Courses
ATTACH;FMTTYPE=image/png:https://spirit-heart.com/wp-content/uploads/2024/09/Photograph-Reading.png
END:VEVENT
END:VCALENDAR